BEGIN:VCALENDAR
VERSION:2.0
PRODID:Icfo
X-PUBLISHED-TTL:P1W
BEGIN:VEVENT
UID:69e7fa296b03a
DTSTART;VALUE=DATE:20130610
SEQUENCE:0
TRANSP:OPAQUE
SUMMARY:ICFO | CHUN NING (JEANIE) LAU
CLASS:PUBLIC
DESCRIPTION:Seminar\, June 10\, 2013\, 15:00. Seminar RoomCHUN NING (JEANIE
 ) LAU\nDepartment of Physics\nUniversity of California\, Riverside\, UNITE
 D STATES\n
X-MICROSOFT-CDO-ALLDAYEVENT:TRUE
DTSTAMP:20260421T222857Z
END:VEVENT
END:VCALENDAR