BEGIN:VCALENDAR
VERSION:2.0
PRODID:Icfo
X-PUBLISHED-TTL:P1W
BEGIN:VEVENT
UID:69ed06d9699bd
DTSTART;VALUE=DATE:20181112
SEQUENCE:0
TRANSP:OPAQUE
SUMMARY:ICFO | JIL SCHWENDER
CLASS:PUBLIC
DESCRIPTION:Monday November 12\, 11:00. ICFO AuditoriumJIL SCHWENDER\nQuant
 um NanoMechanics\nICFO-The Institute of Photonic Sciences\n
X-MICROSOFT-CDO-ALLDAYEVENT:TRUE
DTSTAMP:20260425T182425Z
END:VEVENT
END:VCALENDAR