BEGIN:VCALENDAR
VERSION:2.0
PRODID:Icfo
X-PUBLISHED-TTL:P1W
BEGIN:VEVENT
UID:69ed06fa4883b
DTSTART;VALUE=DATE:20181024
SEQUENCE:0
TRANSP:OPAQUE
SUMMARY:ICFO | MIGUEL MIRELES
CLASS:PUBLIC
DESCRIPTION:Wednesday\, October 24\, 11:00. ICFO AuditoriumMIGUEL MIRELES\n
 Medical Optics\nICFO-The Institute of Photonic Sciences\n
X-MICROSOFT-CDO-ALLDAYEVENT:TRUE
DTSTAMP:20260425T182458Z
END:VEVENT
END:VCALENDAR