BEGIN:VCALENDAR
VERSION:2.0
PRODID:Icfo
X-PUBLISHED-TTL:P1W
BEGIN:VEVENT
UID:69ed070042c0c
DTSTART;VALUE=DATE:20181022
SEQUENCE:0
TRANSP:OPAQUE
SUMMARY:ICFO | KAVITHA KALAVOOR
CLASS:PUBLIC
DESCRIPTION:Monday\, October 22\, 11:00. ICFO AuditoriumKAVITHA KALAVOOR\nO
 ptoelectronics\nICFO-The Institute of Photonic Sciences\n
X-MICROSOFT-CDO-ALLDAYEVENT:TRUE
DTSTAMP:20260425T182504Z
END:VEVENT
END:VCALENDAR