BEGIN:VCALENDAR
VERSION:2.0
PRODID:Icfo
X-PUBLISHED-TTL:P1W
BEGIN:VEVENT
UID:69ed072d8b1ba
DTSTART;VALUE=DATE:20181010
SEQUENCE:0
TRANSP:OPAQUE
SUMMARY:ICFO | CÉSAR CABRERA
CLASS:PUBLIC
DESCRIPTION:Wednesday\, October 10\, 11:00. ICFO AuditoriumCÉSAR CABRERA\n
 Ultracold Quantum Gases\nICFO-The Institute of Photonic Sciences\n
X-MICROSOFT-CDO-ALLDAYEVENT:TRUE
DTSTAMP:20260425T182549Z
END:VEVENT
END:VCALENDAR