BEGIN:VCALENDAR
VERSION:2.0
PRODID:Icfo
X-PUBLISHED-TTL:P1W
BEGIN:VEVENT
UID:69ed06f86477a
DTSTART;VALUE=DATE:20180725
SEQUENCE:0
TRANSP:OPAQUE
SUMMARY:ICFO | PAU FARRERA
CLASS:PUBLIC
DESCRIPTION:Wednesday July 25\, 15:00 h. ICFO AuditoriumPAU FARRERA\nQuantu
 m Photonics With Solids And Atoms\nICFO-The Institute of Photonic Sciences
X-MICROSOFT-CDO-ALLDAYEVENT:TRUE
DTSTAMP:20260425T182456Z
END:VEVENT
END:VCALENDAR