BEGIN:VCALENDAR
VERSION:2.0
PRODID:Icfo
X-PUBLISHED-TTL:P1W
BEGIN:VEVENT
UID:69e9381e18de1
DTSTART:20220329T100000Z
SEQUENCE:0
TRANSP:OPAQUE
DTEND:20220329T110000Z
LOCATION:ICFO Auditorium & Online (Zoom)
SUMMARY:ICFO | PHILIP WALTHER
CLASS:PUBLIC
DESCRIPTION:Profile\nPhilip Walther is Professor of Physics at the Universi
 ty of Vienna\, Austria. His research is dedicated to the development of ad
 vanced of quantum technology for applications in quantum information proce
 ssing and for investigations in quantum science. The experiments are focus
 ed on photonic quantum computation and quantum simulation as well as quant
 um foundations such as indefinite causal structures and the measurement of
  weak gravitational effects on single photons using table-top setups. He i
 s Fellow of the American Physical Society (APS) and the Optical Society of
  America (OSA)\, and member of the Young Academy of the Austrian Academy o
 f Sciences.
DTSTAMP:20260422T210534Z
END:VEVENT
END:VCALENDAR