BEGIN:VCALENDAR
VERSION:2.0
PRODID:Icfo
X-PUBLISHED-TTL:P1W
BEGIN:VEVENT
UID:69e94e9cb1194
DTSTART:20220228T150000Z
SEQUENCE:0
TRANSP:OPAQUE
LOCATION:ICFO Auditorium
SUMMARY:ICFO | IAN SPIELMAN
CLASS:PUBLIC
DTSTAMP:20260422T224132Z
END:VEVENT
END:VCALENDAR