BEGIN:VCALENDAR
VERSION:2.0
PRODID:Icfo
X-PUBLISHED-TTL:P1W
BEGIN:VEVENT
UID:69e9542f2b2d8
DTSTART:20220701T100000Z
SEQUENCE:0
TRANSP:OPAQUE
LOCATION:ICFO Auditorium
SUMMARY:ICFO | STEFANIE GRÄFE
CLASS:PUBLIC
DESCRIPTION:Profile:\nStefanie Gr&auml\;fe holds the Chair of Physical and 
 Theoretical Chemistry\, with affiliations in the Faculties of Chemistry an
 d Physics at the Friedrich Schiller University Jena. She is also an associ
 ate member of the scientific directorate of the Fraunhofer Institute for A
 pplied Optics and Precision Engineering in Jena since 2021. Before\, she w
 as Professor of Theoretical Chemistry and\, at 34\, the youngest regular p
 rofessor in Jena. Previously\, she had worked as a fellow at the Institute
  for Theoretical Physics at the Vienna University of Technology and at the
  Steacie Institute for Molecular Sciences of the National Research Council
  in Canada. She completed her PhD at the University of W&uuml\;rzburg unde
 r Prof. Volker Engel in 2005 at the age of 25. Both her diploma thesis and
  her doctoral dissertation were awarded the Faculty Prize of the Faculty o
 f Chemistry and Pharmacy at the University of W&uuml\;rzburg. The research
  of Stefanie Gr&auml\;fe is focused on the highly interdisciplinary field 
 of light-matter interaction. The highlight of her research activities is t
 he acquisition of a prestigious and highly endowed ERC Consolidator Grant 
 in 2017 for the theoretical investigation and description of light-induced
  complex dynamics of molecular-plasmonic hybrid systems (QUEM-CHEM). Since
  2019\, she is\, together with Prof. Ulf Peschel\, co-speaker of the Colla
 borative Research Center NOA - Nonlinear Optics down to Atomic scales. Ste
 fanie Gr&auml\;fe is also active in several international research and ste
 ering committees\, including in the COST Action \"Attosecond Chemistry\"\,
  the Board of the Atomic and Molecular Physics Division of the European Ph
 ysical Society\, and the US-German Initiative on Solar Fuels Research.
DTSTAMP:20260422T230519Z
END:VEVENT
END:VCALENDAR