BEGIN:VCALENDAR
VERSION:2.0
PRODID:Icfo
X-PUBLISHED-TTL:P1W
BEGIN:VEVENT
UID:69e96591aed66
DTSTART:20221121T110000Z
SEQUENCE:0
TRANSP:OPAQUE
DTEND:20221121T120000Z
LOCATION:ICFO Auditorium
SUMMARY:ICFO | HELMUT KATZGRABER
CLASS:PUBLIC
DESCRIPTION:Profile:&nbsp\;&nbsp\;\nDr. Helmut Katzgraber earned a diploma 
 in physics from ETH Zurich\, and his master&rsquo\;s degree and PhD in phy
 sics at the University of California Santa Cruz. After postdoc positions a
 t the University of California Davis and ETH Zurich\, he was awarded a Swi
 ss National Science Foundation professorship. In 2009\, he joined Texas A&
 amp\;M University as an assistant professor\, and became a full professor 
 in 2015. Katzgraber joined Microsoft as a principal research manager in 20
 18 before joining Amazon in 2020. He was elected Fellow of the American Ph
 ysical Society in 2021 and leads the Quantum Solutions Lab at AWS.\n&nbsp\
 ;\n&nbsp\;
DTSTAMP:20260423T001929Z
END:VEVENT
END:VCALENDAR