BEGIN:VCALENDAR
VERSION:2.0
PRODID:Icfo
X-PUBLISHED-TTL:P1W
BEGIN:VEVENT
UID:69e9545dd6921
DTSTART:20221104T110000Z
SEQUENCE:0
TRANSP:OPAQUE
LOCATION:ICFO Auditorium
SUMMARY:ICFO | JONATHAN SIMON
CLASS:PUBLIC
DESCRIPTION:Profile:\nJon Simon is an associate professor of Physics &amp\;
  Applied Physics at Stanford University. His group&rsquo\;s work currently
  focuses on matter made of light and quantum information science\, employi
 ng tools from atomic physics\, cavity quantum electrodynamics\, and (in co
 llaboration with the Schuster Lab) circuit quantum electrodynamics. His in
 terests range from quantum optics and strongly correlated matter to the th
 eory of control\, Brazilian jiujitsu\, drones\, and cats.
DTSTAMP:20260422T230605Z
END:VEVENT
END:VCALENDAR