BEGIN:VCALENDAR
VERSION:2.0
PRODID:Icfo
X-PUBLISHED-TTL:P1W
BEGIN:VEVENT
UID:69ec3368c2456
DTSTART:20220929T130000Z
SEQUENCE:0
TRANSP:OPAQUE
DTEND:20220929T150000Z
LOCATION:SMR
SUMMARY:ICFO | MANOLO CASTELLANO
CLASS:PUBLIC
DTSTAMP:20260425T032216Z
END:VEVENT
END:VCALENDAR