BEGIN:VCALENDAR
VERSION:2.0
PRODID:Icfo
X-PUBLISHED-TTL:P1W
BEGIN:VEVENT
UID:69ed06b9d17ea
DTSTART;VALUE=DATE:20180522
SEQUENCE:0
TRANSP:OPAQUE
SUMMARY:ICFO | KEVIN SCHÄDLER
CLASS:PUBLIC
DESCRIPTION:Tuesday\, May 22\, 10:00. ICFO AuditoriumKEVIN SCHÄDLER\nQuant
 um Nano-Optoelectronics\nICFO-The Institute of Photonic Sciences
X-MICROSOFT-CDO-ALLDAYEVENT:TRUE
DTSTAMP:20260425T182353Z
END:VEVENT
END:VCALENDAR