BEGIN:VCALENDAR
VERSION:2.0
PRODID:Icfo
X-PUBLISHED-TTL:P1W
BEGIN:VEVENT
UID:69ec332b4e219
DTSTART:20221213T150000Z
SEQUENCE:0
TRANSP:OPAQUE
DTEND:20221213T160000Z
LOCATION:ICFO Auditorium
SUMMARY:ICFO | ANNA ODDONE
CLASS:PUBLIC
DTSTAMP:20260425T032115Z
END:VEVENT
END:VCALENDAR