BEGIN:VCALENDAR
VERSION:2.0
PRODID:Icfo
X-PUBLISHED-TTL:P1W
BEGIN:VEVENT
UID:69e78ba6a416f
DTSTART:20231020T073000Z
SEQUENCE:0
TRANSP:OPAQUE
DTEND:20231020T130000Z
LOCATION:ICFO Auditorium
SUMMARY:ICFO | BEYOND ICFO 2023: Branching out 
CLASS:PUBLIC
DTSTAMP:20260421T143726Z
END:VEVENT
END:VCALENDAR