BEGIN:VCALENDAR
VERSION:2.0
PRODID:Icfo
X-PUBLISHED-TTL:P1W
BEGIN:VEVENT
UID:69ed0700bb2b6
DTSTART;VALUE=DATE:20180403
SEQUENCE:0
TRANSP:OPAQUE
SUMMARY:ICFO | GUILLAUME CORDIER
CLASS:PUBLIC
DESCRIPTION:Tuesday April 3\, 15:00. ICFO AuditoriumGUILLAUME CORDIER\nSing
 le Molecule Biophotonics\nICFO-The Institute of Photonic Sciences\n
X-MICROSOFT-CDO-ALLDAYEVENT:TRUE
DTSTAMP:20260425T182504Z
END:VEVENT
END:VCALENDAR