BEGIN:VCALENDAR
VERSION:2.0
PRODID:Icfo
X-PUBLISHED-TTL:P1W
BEGIN:VEVENT
UID:69eb8c1b68969
DTSTART:20240207T110000Z
SEQUENCE:0
TRANSP:OPAQUE
DTEND:20240207T120000Z
LOCATION:Seminar Room
SUMMARY:ICFO | HORACIO M. PASTAWSKI
CLASS:PUBLIC
DTSTAMP:20260424T152827Z
END:VEVENT
END:VCALENDAR