BEGIN:VCALENDAR
VERSION:2.0
PRODID:Icfo
X-PUBLISHED-TTL:P1W
BEGIN:VEVENT
UID:69ed06b9e0c42
DTSTART;VALUE=DATE:20180226
SEQUENCE:0
TRANSP:OPAQUE
SUMMARY:ICFO | BENJAMIN WOLTER
CLASS:PUBLIC
DESCRIPTION:Monday\, February 26\, 2018\, 11:00. ICFO AuditoriumBENJAMIN WO
 LTER\nAttoscience and Ultrafast Optics\nICFO-The Institute of Photonic Sci
 ences\n
X-MICROSOFT-CDO-ALLDAYEVENT:TRUE
DTSTAMP:20260425T182353Z
END:VEVENT
END:VCALENDAR