BEGIN:VCALENDAR
VERSION:2.0
PRODID:Icfo
X-PUBLISHED-TTL:P1W
BEGIN:VEVENT
UID:69e7c5a0a402c
DTSTART:20250423T100000Z
SEQUENCE:0
TRANSP:OPAQUE
DTEND:20250423T110000Z
LOCATION:Elements Room
SUMMARY:ICFO | ANDREW FORBES 
CLASS:PUBLIC
DTSTAMP:20260421T184448Z
END:VEVENT
END:VCALENDAR