BEGIN:VCALENDAR
VERSION:2.0
PRODID:Icfo
X-PUBLISHED-TTL:P1W
BEGIN:VEVENT
UID:69e7b1e2e02ce
DTSTART;VALUE=DATE:20251029
SEQUENCE:0
TRANSP:OPAQUE
LOCATION:ICFO Auditorium
SUMMARY:ICFO | Electron Beam Spectroscopy for Nanophotonics 2025
CLASS:PUBLIC
X-MICROSOFT-CDO-ALLDAYEVENT:TRUE
DTSTAMP:20260421T172034Z
END:VEVENT
END:VCALENDAR