BEGIN:VCALENDAR
VERSION:2.0
PRODID:Icfo
X-PUBLISHED-TTL:P1W
BEGIN:VEVENT
UID:69e78a8b6a2dc
DTSTART:20250919T083000Z
SEQUENCE:0
TRANSP:OPAQUE
DTEND:20250919T100000Z
LOCATION:ICFO Auditorium
SUMMARY:ICFO | BEYOND ICFO 2025: Financing for Early Career Researchers
CLASS:PUBLIC
DTSTAMP:20260421T143243Z
END:VEVENT
END:VCALENDAR