BEGIN:VCALENDAR
VERSION:2.0
PRODID:Icfo
X-PUBLISHED-TTL:P1W
BEGIN:VEVENT
UID:69ed06da908ef
DTSTART;VALUE=DATE:20180123
SEQUENCE:0
TRANSP:OPAQUE
SUMMARY:ICFO | NOSLEN SUAREZ
CLASS:PUBLIC
DESCRIPTION:Tuesday\, January 23\, 11:00. ICFO AuditoriumNOSLEN SUAREZ\nQua
 ntum Optics Theory\nICFO-The Institute of Photonic Sciences\n
X-MICROSOFT-CDO-ALLDAYEVENT:TRUE
DTSTAMP:20260425T182426Z
END:VEVENT
END:VCALENDAR