BEGIN:VCALENDAR
VERSION:2.0
PRODID:Icfo
X-PUBLISHED-TTL:P1W
BEGIN:VEVENT
UID:69e973941b2eb
DTSTART:20260129T110000Z
SEQUENCE:0
TRANSP:OPAQUE
DTEND:20260129T120000Z
LOCATION:Elements Room
SUMMARY:ICFO | ANDREAS SEIFERT
CLASS:PUBLIC
DTSTAMP:20260423T011916Z
END:VEVENT
END:VCALENDAR