BEGIN:VCALENDAR
VERSION:2.0
PRODID:Icfo
X-PUBLISHED-TTL:P1W
BEGIN:VEVENT
UID:69e9780473a7e
DTSTART:20260714T073000Z
SEQUENCE:0
TRANSP:OPAQUE
DTEND:20260715T153000Z
LOCATION:Elements Room
SUMMARY:ICFO | GAVIN LUCAS
CLASS:PUBLIC
DTSTAMP:20260423T013812Z
END:VEVENT
END:VCALENDAR