BEGIN:VCALENDAR
VERSION:2.0
PRODID:Icfo
X-PUBLISHED-TTL:P1W
BEGIN:VEVENT
UID:69e973e15b7c1
DTSTART:20260504T120000Z
SEQUENCE:0
TRANSP:OPAQUE
DTEND:20260504T150000Z
LOCATION:Mir-Puig Seminar Room
SUMMARY:ICFO | ANA M. RIBEIRO
CLASS:PUBLIC
DTSTAMP:20260423T012033Z
END:VEVENT
END:VCALENDAR