BEGIN:VCALENDAR
VERSION:2.0
PRODID:Icfo
X-PUBLISHED-TTL:P1W
BEGIN:VEVENT
UID:69e75231d0bfd
DTSTART;VALUE=DATE:20260629
SEQUENCE:0
TRANSP:OPAQUE
LOCATION:Elements Room
SUMMARY:ICFO | ICFO FRONTIERS RESEARCH SCHOOL: Energy Systems Across Scales
  - From Fundamentals to Impact
CLASS:PUBLIC
X-MICROSOFT-CDO-ALLDAYEVENT:TRUE
DTSTAMP:20260421T103217Z
END:VEVENT
END:VCALENDAR