BEGIN:VCALENDAR
VERSION:2.0
PRODID:Icfo
X-PUBLISHED-TTL:P1W
BEGIN:VEVENT
UID:69e7f3d4aa299
DTSTART;VALUE=DATE:20260428
SEQUENCE:0
TRANSP:OPAQUE
LOCATION:Cafeteria & Nest Hall
SUMMARY:ICFO | International Health and Safety Day 2026
CLASS:PUBLIC
X-MICROSOFT-CDO-ALLDAYEVENT:TRUE
DTSTAMP:20260421T220156Z
END:VEVENT
END:VCALENDAR