BEGIN:VCALENDAR
VERSION:2.0
PRODID:Icfo
X-PUBLISHED-TTL:P1W
BEGIN:VEVENT
UID:69e95d27c3179
DTSTART:20260423T093000Z
SEQUENCE:0
TRANSP:OPAQUE
DTEND:20260423T103000Z
LOCATION:Nest Hall
SUMMARY:ICFO | HIPPOLYTE DOURDENT
CLASS:PUBLIC
DESCRIPTION:\n\n\n\n\n\n\n\nOn Sant Jordi&rsquo\;s Day\, we will have a ver
 y special presentation of this book written by an ICFO Alumni.\n\n\n\n\n\n
 \n\n\n\"Schr&ouml\;dinger's cat is both dead and alive.\" \"A quantum comp
 uter calculates in parallel worlds.\" These catchy formulas paint quantum 
 mechanics as irreducibly mysterious &mdash\; yet this very theory is \"at 
 the same time\" heralded as the engine of an imminent technological revolu
 tion. Hippolyte's book\, Through the quantum looking glass (De l&rsquo\;au
 tre c&ocirc\;te de miroir quantique\, vers une r&eacute\;volution technolo
 gique\, Editions Dunod\, 2025) dismantles the myths one by one\, arguing t
 hat quantum theory is far more understandable than its reputation suggests
 \, and invites the reader on a journey to the core of quantum weirdness\, 
 drawing on both modern quantum foundations and popular culture. He will in
 troduce his book\, reflect on the journey from idea to publication\, and s
 hare how the project came to life.\nEditor book page: https://www.dunod.co
 m/sciences-techniques/autre-cote-du-miroir-quantique-vers-une-revolution-t
 echnologique
DTSTAMP:20260422T234335Z
END:VEVENT
END:VCALENDAR