BEGIN:VCALENDAR
VERSION:2.0
PRODID:Icfo
X-PUBLISHED-TTL:P1W
BEGIN:VEVENT
UID:69ecfdf1ede3e
DTSTART:20260409T110000Z
SEQUENCE:0
TRANSP:OPAQUE
DTEND:20260409T120000Z
LOCATION:Blue Lecture Room 
SUMMARY:ICFO | AMARIS GUEVARA
CLASS:PUBLIC
DTSTAMP:20260425T174625Z
END:VEVENT
END:VCALENDAR