BEGIN:VCALENDAR
VERSION:2.0
PRODID:Icfo
X-PUBLISHED-TTL:P1W
BEGIN:VEVENT
UID:69ecfe24c0aef
DTSTART:20260423T100000Z
SEQUENCE:0
TRANSP:OPAQUE
DTEND:20260423T110000Z
LOCATION:Seminar Room
SUMMARY:ICFO | MARTIN FERNANDEZ CAMPO
CLASS:PUBLIC
DTSTAMP:20260425T174716Z
END:VEVENT
END:VCALENDAR