BEGIN:VCALENDAR
VERSION:2.0
PRODID:Icfo
X-PUBLISHED-TTL:P1W
BEGIN:VEVENT
UID:69ed1382c1781
DTSTART:20260305T110000Z
SEQUENCE:0
TRANSP:OPAQUE
DTEND:20260305T120000Z
LOCATION:Seminar Room
SUMMARY:ICFO | DENITZA DENKOVA
CLASS:PUBLIC
DTSTAMP:20260425T191826Z
END:VEVENT
END:VCALENDAR